BEGIN:VCALENDAR
VERSION:2.0
PRODID:-//Tukios.com/
BEGIN:VEVENT
UID:3dae0670-bec6-482b-ace6-ae491702f2ce@www.parentsorensen.com
DTSTAMP:20260424T223502Z
DTSTART:20260502T230000Z
DTEND:20260503T000000Z
SUMMARY:Memorial Service
DESCRIPTION:
URL:https://www.parentsorensen.com/obituaries/marian-ishizu
LOCATION:Enmanji Buddhist Temple 1200 Gravenstein Highway South  
	Sebastopol CA 95472
GEO:38.387188;-122.8142677
END:VEVENT
END:VCALENDAR